BEGIN:VCALENDAR
VERSION:2.0
PRODID:-//Sabre//Sabre VObject 4.5.8//EN
CALSCALE:GREGORIAN
BEGIN:VEVENT
UID:sabre-vobject-e6eb5715-b81d-440c-878a-0019307c7ee7
DTSTAMP:20260425T152207Z
SUMMARY:Xenia Löffler - Barockoboe
DESCRIPTION:https://www.sommerakademie-neuburg.com/courses/xenia-loffler-ba
 rockoboe_id4488
DTSTART;TZID=Europe/Berlin:20260810T000000
DTEND;TZID=Europe/Berlin:20260815T000000
LOCATION:\, \, 86633 
END:VEVENT
END:VCALENDAR
