BEGIN:VCALENDAR
VERSION:2.0
PRODID:-//Sabre//Sabre VObject 4.5.8//EN
CALSCALE:GREGORIAN
BEGIN:VEVENT
UID:sabre-vobject-37c3da5c-a81b-425a-bbfa-5daae5515615
DTSTAMP:20260423T094603Z
SUMMARY:Han Tol -   recorder
DESCRIPTION:https://www.sommerakademie-neuburg.com/courses/han-tol-recorder
 _id4416
DTSTART;TZID=Europe/Berlin:20260810T000000
DTEND;TZID=Europe/Berlin:20260815T000000
LOCATION:\, \, 86633 
END:VEVENT
END:VCALENDAR
