BEGIN:VCALENDAR
VERSION:2.0
PRODID:-//Sabre//Sabre VObject 4.5.8//EN
CALSCALE:GREGORIAN
BEGIN:VEVENT
UID:sabre-vobject-3c96638d-77b0-4c75-984d-c0460ee8611e
DTSTAMP:20260422T101904Z
SUMMARY:Yke Prins - sculpture and object
DESCRIPTION:https://www.sommerakademie-neuburg.com/courses/yke-prins-sculpt
 ure-and-object_id4404
DTSTART;TZID=Europe/Berlin:20260810T000000
DTEND;TZID=Europe/Berlin:20260815T000000
LOCATION:Obere Altstadt Neuburg
END:VEVENT
END:VCALENDAR
