BEGIN:VCALENDAR
VERSION:2.0
PRODID:-//Sabre//Sabre VObject 4.5.8//EN
CALSCALE:GREGORIAN
BEGIN:VEVENT
UID:sabre-vobject-8925ba25-e106-41d8-b688-17f70d72e398
DTSTAMP:20260420T120857Z
SUMMARY:Valentin Lanzrein - Voice
DESCRIPTION:https://www.sommerakademie-neuburg.com/courses/valentin-lanzrei
 n-voice_id4388
DTSTART;TZID=Europe/Berlin:20260802T000000
DTEND;TZID=Europe/Berlin:20260808T000000
LOCATION:\, \, 86633 
END:VEVENT
END:VCALENDAR
