BEGIN:VCALENDAR
VERSION:2.0
PRODID:-//Sabre//Sabre VObject 4.5.8//EN
CALSCALE:GREGORIAN
BEGIN:VEVENT
UID:sabre-vobject-ab58426c-d49b-425b-b46f-9fca6e949007
DTSTAMP:20260424T135026Z
SUMMARY:Katrin Schöß- Landscape and Architecture - Drawing and Painting i
 n the Open Air
DESCRIPTION:https://www.sommerakademie-neuburg.com/courses/katrin-schoss-la
 ndscape-and-architecture-drawing-and-painting-in-the-open-air_id40281
DTSTART;TZID=Europe/Berlin:20260810T000000
DTEND;TZID=Europe/Berlin:20260815T000000
LOCATION:Obere Altstadt Neuburg
END:VEVENT
END:VCALENDAR
