BEGIN:VCALENDAR
VERSION:2.0
PRODID:-//Sabre//Sabre VObject 4.5.8//EN
CALSCALE:GREGORIAN
BEGIN:VEVENT
UID:sabre-vobject-8675951c-afb5-426f-9b12-ef6bf8b40c0a
DTSTAMP:20260422T115132Z
SUMMARY:Stefanie Pojar - Printing - Experimental printing graphics
DESCRIPTION:https://www.sommerakademie-neuburg.com/courses/stefanie-pojar-p
 rinting-experimental-printing-graphics_id40272
DTSTART;TZID=Europe/Berlin:20260802T000000
DTEND;TZID=Europe/Berlin:20260815T000000
LOCATION:Obere Altstadt Neuburg
END:VEVENT
END:VCALENDAR
